BEGIN:VCALENDAR
VERSION:2.0
PRODID:-//gt-world-challenge-europe.com//iCal Event
METHOD:PUBLISH
CALSCALE:GREGORIAN
BEGIN:VEVENT
DTSTAMP:20260423T130246Z
UID:GTWCEU-112
DTSTART;VALUE=DATE:20260424
DTEND;VALUE=DATE:20260426
SUMMARY:GTWC RD2
ORGANIZER;CN='GTWC America':mailto:info@sro-motorsports.com
URL:https://www.gt-world-challenge-america.com/event/112/circuit-of-the-americas
DESCRIPTION:Circuit of the Americas Round 2
LOCATION:United States of America\, Circuit of the Americas
LAST-MODIFIED:20260423T130246Z
STATUS:CONFIRMED
END:VEVENT
END:VCALENDAR