BEGIN:VCALENDAR
VERSION:2.0
PRODID:-//gt-world-challenge-europe.com//iCal Event
METHOD:PUBLISH
CALSCALE:GREGORIAN
BEGIN:VEVENT
DTSTAMP:20260423T113147Z
UID:GTWCEU-113
DTSTART;VALUE=DATE:20260508
DTEND;VALUE=DATE:20260510
SUMMARY:GTWC RD3
ORGANIZER;CN='GTWC America':mailto:info@sro-motorsports.com
URL:https://www.gt-world-challenge-america.com/event/113/sebring-international-raceway
DESCRIPTION:Sebring International Raceway Round 3
LOCATION:United States of America\, Sebring International Raceway
LAST-MODIFIED:20260423T113147Z
STATUS:CONFIRMED
END:VEVENT
END:VCALENDAR