BEGIN:VCALENDAR
VERSION:2.0
PRODID:-//gt-world-challenge-europe.com//iCal Event
METHOD:PUBLISH
CALSCALE:GREGORIAN
BEGIN:VEVENT
DTSTAMP:20260423T113148Z
UID:GTWCEU-116
DTSTART;VALUE=DATE:20260925
DTEND;VALUE=DATE:20260927
SUMMARY:GTWC RD6
ORGANIZER;CN='GTWC America':mailto:info@sro-motorsports.com
URL:https://www.gt-world-challenge-america.com/event/116/barber-motorsports-park
DESCRIPTION:Barber Motorsports Park Round 6
LOCATION:United States of America\, Barber Motorsports Park
LAST-MODIFIED:20260423T113148Z
STATUS:CONFIRMED
END:VEVENT
END:VCALENDAR